BEGIN:VCALENDAR
VERSION:2.0
PRODID:City of Sammamish Event Calendar
METHOD:PUBLISH
BEGIN:VEVENT
DTSTART:20250319T180000
DTEND:20250319T193000
SUMMARY:March 19, 2025 Sammamish Youth Board Meeting
PRIORITY:3
END:VEVENT
END:VCALENDAR
