BEGIN:VCALENDAR
VERSION:2.0
PRODID:City of Sammamish Event Calendar
METHOD:PUBLISH
BEGIN:VEVENT
DTSTART:20261205T093000
DTEND:20261205T103000
SUMMARY:Coffee with Council - December 5, 2026
PRIORITY:3
END:VEVENT
END:VCALENDAR
